BEGIN:VCALENDAR
VERSION:2.0
PRODID:-//Ataturk Society of America - ECPv6.15.17.1//NONSGML v1.0//EN
CALSCALE:GREGORIAN
METHOD:PUBLISH
X-WR-CALNAME:Ataturk Society of America
X-ORIGINAL-URL:https://ataturksociety.org
X-WR-CALDESC:Events for Ataturk Society of America
REFRESH-INTERVAL;VALUE=DURATION:PT1H
X-Robots-Tag:noindex
X-PUBLISHED-TTL:PT1H
BEGIN:VTIMEZONE
TZID:America/New_York
BEGIN:DAYLIGHT
TZOFFSETFROM:-0500
TZOFFSETTO:-0400
TZNAME:EDT
DTSTART:20170312T070000
END:DAYLIGHT
BEGIN:STANDARD
TZOFFSETFROM:-0400
TZOFFSETTO:-0500
TZNAME:EST
DTSTART:20171105T060000
END:STANDARD
BEGIN:DAYLIGHT
TZOFFSETFROM:-0500
TZOFFSETTO:-0400
TZNAME:EDT
DTSTART:20180311T070000
END:DAYLIGHT
BEGIN:STANDARD
TZOFFSETFROM:-0400
TZOFFSETTO:-0500
TZNAME:EST
DTSTART:20181104T060000
END:STANDARD
BEGIN:DAYLIGHT
TZOFFSETFROM:-0500
TZOFFSETTO:-0400
TZNAME:EDT
DTSTART:20190310T070000
END:DAYLIGHT
BEGIN:STANDARD
TZOFFSETFROM:-0400
TZOFFSETTO:-0500
TZNAME:EST
DTSTART:20191103T060000
END:STANDARD
BEGIN:DAYLIGHT
TZOFFSETFROM:-0500
TZOFFSETTO:-0400
TZNAME:EDT
DTSTART:20200308T070000
END:DAYLIGHT
BEGIN:STANDARD
TZOFFSETFROM:-0400
TZOFFSETTO:-0500
TZNAME:EST
DTSTART:20201101T060000
END:STANDARD
END:VTIMEZONE
BEGIN:VEVENT
DTSTART;TZID=America/New_York:20190519T160000
DTEND;TZID=America/New_York:20190519T180000
DTSTAMP:20260422T162715
CREATED:20220808T154848Z
LAST-MODIFIED:20220808T155057Z
UID:12091-1558281600-1558288800@ataturksociety.org
SUMMARY:May 19 Centennial Celebration
DESCRIPTION:Celebration of the “Youth and Sports Day and Atatürk’s Birthday” took place on May 19\, 2019 at the the historical Cosmos Club\, Washington\, DC. Adm. Cem Gürdeniz was the guest of honor.  He gave a speech on “Foundation of the Turkish Liberation and Mustafa Kemal”.  The celebration later followed by a classical music concert by pianist Ayşegül Durakoğlu\, violinist Yiğit Karataş and cellist Emirhan Tunca and a short animated film by illustrator Deniz Ilhan.  The celebration concluded with a reception.
URL:https://ataturksociety.org/event/may-19-centennial-celebration/
LOCATION:Cosmos Club\, 2121 Massachusetts Ave NW\,\, Washington\, DC\, United States
CATEGORIES:Celebration
ATTACH;FMTTYPE=image/jpeg:https://ataturksociety.org/wp-content/uploads/2022/08/19Mayis2019.jpg
ORGANIZER;CN="Atat%C3%BCrk Society of America":MAILTO:info@ataturksociety.org
END:VEVENT
BEGIN:VEVENT
DTSTART;VALUE=DATE:20190318
DTEND;VALUE=DATE:20190319
DTSTAMP:20260422T162715
CREATED:20220808T160703Z
LAST-MODIFIED:20220808T160734Z
UID:12121-1552867200-1552953599@ataturksociety.org
SUMMARY:18 Mach - Victory and Remembrance Day of Martyrs
DESCRIPTION:18 Mart 1915\, March 18 1915 \nÇanakkale Deniz Zaferi ve Şehitleri Anma Günü \nBu savaşlarda ve bütün savaşlarda yurtları için canlarını veren aziz şehitlerimizin ruhları önünde saygıyla eğiliriz. \nRemembering victorious Atatürk\, Seyit Onbaşı\, Soldiers in 57th regiment (“57. Alay”) and other hereos who fought with great bravery against the occupying forces under the command of the British Navy.
URL:https://ataturksociety.org/event/18-mach-victory-and-remembrance-day-of-martyrs/
LOCATION:DC
CATEGORIES:Celebration,Commemoration
END:VEVENT
BEGIN:VEVENT
DTSTART;VALUE=DATE:20181120
DTEND;VALUE=DATE:20181121
DTSTAMP:20260422T162715
CREATED:20220808T155433Z
LAST-MODIFIED:20220808T155453Z
UID:12099-1542672000-1542758399@ataturksociety.org
SUMMARY:International Children's Day - Dünya Çocuk Haklari Günü - Nov. 20
DESCRIPTION:It is said that the measure of a nation’s greatness is determined by how it treats its weakest members.  Children are the most vulnerable in any society.   On International Children’s Day\, we must demand governments to implement and force policies and laws to improve welfare and protection of the children.
URL:https://ataturksociety.org/event/international-childrens-day-dunya-cocuk-haklari-gunu-nov-20/
LOCATION:DC
CATEGORIES:Celebration
END:VEVENT
END:VCALENDAR