BEGIN:VCALENDAR
VERSION:2.0
PRODID:-//Ataturk Society of America - ECPv6.15.17.1//NONSGML v1.0//EN
CALSCALE:GREGORIAN
METHOD:PUBLISH
X-WR-CALNAME:Ataturk Society of America
X-ORIGINAL-URL:https://ataturksociety.org
X-WR-CALDESC:Events for Ataturk Society of America
REFRESH-INTERVAL;VALUE=DURATION:PT1H
X-Robots-Tag:noindex
X-PUBLISHED-TTL:PT1H
BEGIN:VTIMEZONE
TZID:America/New_York
BEGIN:DAYLIGHT
TZOFFSETFROM:-0500
TZOFFSETTO:-0400
TZNAME:EDT
DTSTART:20180311T070000
END:DAYLIGHT
BEGIN:STANDARD
TZOFFSETFROM:-0400
TZOFFSETTO:-0500
TZNAME:EST
DTSTART:20181104T060000
END:STANDARD
BEGIN:DAYLIGHT
TZOFFSETFROM:-0500
TZOFFSETTO:-0400
TZNAME:EDT
DTSTART:20190310T070000
END:DAYLIGHT
BEGIN:STANDARD
TZOFFSETFROM:-0400
TZOFFSETTO:-0500
TZNAME:EST
DTSTART:20191103T060000
END:STANDARD
BEGIN:DAYLIGHT
TZOFFSETFROM:-0500
TZOFFSETTO:-0400
TZNAME:EDT
DTSTART:20200308T070000
END:DAYLIGHT
BEGIN:STANDARD
TZOFFSETFROM:-0400
TZOFFSETTO:-0500
TZNAME:EST
DTSTART:20201101T060000
END:STANDARD
BEGIN:DAYLIGHT
TZOFFSETFROM:-0500
TZOFFSETTO:-0400
TZNAME:EDT
DTSTART:20210314T070000
END:DAYLIGHT
BEGIN:STANDARD
TZOFFSETFROM:-0400
TZOFFSETTO:-0500
TZNAME:EST
DTSTART:20211107T060000
END:STANDARD
BEGIN:DAYLIGHT
TZOFFSETFROM:-0500
TZOFFSETTO:-0400
TZNAME:EDT
DTSTART:20220313T070000
END:DAYLIGHT
BEGIN:STANDARD
TZOFFSETFROM:-0400
TZOFFSETTO:-0500
TZNAME:EST
DTSTART:20221106T060000
END:STANDARD
BEGIN:DAYLIGHT
TZOFFSETFROM:-0500
TZOFFSETTO:-0400
TZNAME:EDT
DTSTART:20230312T070000
END:DAYLIGHT
BEGIN:STANDARD
TZOFFSETFROM:-0400
TZOFFSETTO:-0500
TZNAME:EST
DTSTART:20231105T060000
END:STANDARD
BEGIN:DAYLIGHT
TZOFFSETFROM:-0500
TZOFFSETTO:-0400
TZNAME:EDT
DTSTART:20240310T070000
END:DAYLIGHT
BEGIN:STANDARD
TZOFFSETFROM:-0400
TZOFFSETTO:-0500
TZNAME:EST
DTSTART:20241103T060000
END:STANDARD
BEGIN:DAYLIGHT
TZOFFSETFROM:-0500
TZOFFSETTO:-0400
TZNAME:EDT
DTSTART:20250309T070000
END:DAYLIGHT
BEGIN:STANDARD
TZOFFSETFROM:-0400
TZOFFSETTO:-0500
TZNAME:EST
DTSTART:20251102T060000
END:STANDARD
BEGIN:DAYLIGHT
TZOFFSETFROM:-0500
TZOFFSETTO:-0400
TZNAME:EDT
DTSTART:20260308T070000
END:DAYLIGHT
BEGIN:STANDARD
TZOFFSETFROM:-0400
TZOFFSETTO:-0500
TZNAME:EST
DTSTART:20261101T060000
END:STANDARD
END:VTIMEZONE
BEGIN:VEVENT
DTSTART;TZID=America/New_York:20251110T080000
DTEND;TZID=America/New_York:20251110T170000
DTSTAMP:20260422T121218
CREATED:20251110T163831Z
LAST-MODIFIED:20251110T163831Z
UID:12636-1762761600-1762794000@ataturksociety.org
SUMMARY:November 10\, Commemoration of Atatürk
DESCRIPTION:Join us in celebrating Atatürk’s remarkable lıfe and his masterpiece\, The Republic of Türkiye \nMonday\, November 10\, 2025\, 11am \nSheridan Circle\, Washington\, DC \nBy the Statue of Atatürk
URL:https://ataturksociety.org/event/november-10-commemoration-of-ataturk-2/
CATEGORIES:Commemoration
END:VEVENT
BEGIN:VEVENT
DTSTART;TZID=America/New_York:20241110T140000
DTEND;TZID=America/New_York:20241110T160000
DTSTAMP:20260422T121218
CREATED:20241109T003531Z
LAST-MODIFIED:20241109T003531Z
UID:12623-1731247200-1731254400@ataturksociety.org
SUMMARY:Commemoration of Atatürk
DESCRIPTION:
URL:https://ataturksociety.org/event/commemoration-of-ataturk/
CATEGORIES:Commemoration
ATTACH;FMTTYPE=image/png:https://ataturksociety.org/wp-content/uploads/2024/11/ATATURK-SOCIETY-OF-AMERICA-4.png
END:VEVENT
BEGIN:VEVENT
DTSTART;TZID=America/New_York:20221106T140000
DTEND;TZID=America/New_York:20221106T170000
DTSTAMP:20260422T121218
CREATED:20221024T223835Z
LAST-MODIFIED:20221110T193453Z
UID:12431-1667743200-1667754000@ataturksociety.org
SUMMARY:10 November Atatürk Remembrance Day
DESCRIPTION:Mustafa Kemal’s Years in  Sofia 1913-1915\nUSA Premiere of the Documentary Film\nProducers and Director Nahide Deniz and Ufuk Karakaş as guests in attendance\n\nGUEST SPEAKER:\nProf. Dr. George W. Gawrych\n\nAuthor of the book  “The Young Atatürk”\n\n\n\n\n\nEvent highlights: https://ataturksociety.org/asas-commemoration-of-ataturk-event-november-6-2022/
URL:https://ataturksociety.org/event/10-november-ataturk-remembrance-day/
LOCATION:George Washington University Student Center\, 800 21st. Street\, NW\, Washington\, DC\, 20052\, United States
CATEGORIES:Commemoration
ATTACH;FMTTYPE=image/jpeg:https://ataturksociety.org/wp-content/uploads/2022/10/10-Kasim-EN_sm.jpg
ORGANIZER;CN="Atat%C3%BCrk Society of America":MAILTO:info@ataturksociety.org
END:VEVENT
BEGIN:VEVENT
DTSTART;TZID=America/New_York:20211110T140000
DTEND;TZID=America/New_York:20211110T150000
DTSTAMP:20260422T121218
CREATED:20220808T154324Z
LAST-MODIFIED:20220808T154324Z
UID:12086-1636552800-1636556400@ataturksociety.org
SUMMARY:Online Event to Commemorate Atatürk
DESCRIPTION:Date:  Wednesday\, Nov. 10\, 2021\nTime:  US ET: 2 pm |  TR: 22:00  |  EU: 20:00 |  GB: 19:00 \nJoin Zoom Meeting\nhttps://zoom.us/j/95265037187\nMeeting ID: 952 6503 7187\nADDP Facebook will also broadcast the event. \nGUESTS: \nDR.ORHAN ÇEKİÇ / Gedik Ünv. Araştırma ve Uygulama Merkezi Md.\nAtatürkoloji Enstitüsü Kurucu Başkanı – Historian\n— HANRİ BENAZUS/  Atatürk Fotoğrafları Kolleksiyoneri\,Araştırmacı – Author\n—VOLKAN KONAK / Musician\n— ÖZGÜR KIYAT / Musician
URL:https://ataturksociety.org/event/online-event-to-commemorate-ataturk/
CATEGORIES:Commemoration
ATTACH;FMTTYPE=image/jpeg:https://ataturksociety.org/wp-content/uploads/2022/08/Program.jpg
END:VEVENT
BEGIN:VEVENT
DTSTART;VALUE=DATE:20210519
DTEND;VALUE=DATE:20210520
DTSTAMP:20260422T121218
CREATED:20220808T155546Z
LAST-MODIFIED:20220808T155546Z
UID:12101-1621382400-1621468799@ataturksociety.org
SUMMARY:Happy 19th of May\, Youth & Sport Day & Commemoration of Atatürk
DESCRIPTION:Believing that “the independence of the nation will be saved only by the determination of the nation”\, Great Leader Atatürk launched his campaign for independence from Samsun\, 102 years ago today. This turning point in the history of the Republic of Turkey\, has a monumental importance for all Turks. On this “Youth and Sports Day and Ataturk’s Birthday”\, Turks around the world are proudly celebrating and expressing their gratitude and reverence to the immortal Atatürk.
URL:https://ataturksociety.org/event/happy-19th-of-may-youth-sport-day-commemoration-of-ataturk/
CATEGORIES:Celebration,Commemoration
END:VEVENT
BEGIN:VEVENT
DTSTART;TZID=America/New_York:20201108T130000
DTEND;TZID=America/New_York:20201108T150000
DTSTAMP:20260422T121218
CREATED:20220808T155640Z
LAST-MODIFIED:20220808T155640Z
UID:12103-1604840400-1604847600@ataturksociety.org
SUMMARY:Commemorating Atatürk
DESCRIPTION:Date: Sunday\, November 8th 2020\nTime: 21:00 Turkey / 1pm US ET\nZOOM meeting \n<h4 style=”text-align: center;”><strong>\nThe online meeting was held on Sunday\, November 8\, and the program was also broadcasted live on Facebook.</strong></h4> \n 
URL:https://ataturksociety.org/event/commemorating-ataturk/
CATEGORIES:Commemoration
END:VEVENT
BEGIN:VEVENT
DTSTART;TZID=America/New_York:20191110T140000
DTEND;TZID=America/New_York:20191110T160000
DTSTAMP:20260422T121218
CREATED:20220808T154503Z
LAST-MODIFIED:20220808T154509Z
UID:12084-1573394400-1573401600@ataturksociety.org
SUMMARY:November 10\, Commemoration of Atatürk
DESCRIPTION:Held on Sunday\, November 10\, 2019  8:45am\nA Tribute to Atatürk\nBy the Statue of Atatürk\, Sheridan Circle\, Washington\, DC\nOpen to Public \nHeld on Sunday\, November 10\, 2019  2:00pm-4:00pm\nA Celebration of Atatürk\nPresentation: “Atatürk’s Legacy: Transforming a Nation”\nAmerican University\nSchool of International Service\n3401 Nebraska Avenue\, NW\nWashington\, DC 20016\nOpen to Public\n(Free parking is available below the building.)
URL:https://ataturksociety.org/event/november-10-commemoration-of-ataturk/
LOCATION:Statue of Atatürk\, Massachusetts Ave NW & Sheridan Cir NW\, Washington\, DC\, 20008\, United States
CATEGORIES:Commemoration
ATTACH;FMTTYPE=image/jpeg:https://ataturksociety.org/wp-content/uploads/2022/08/Ataturk-ilkeleri.jpg
END:VEVENT
BEGIN:VEVENT
DTSTART;VALUE=DATE:20190318
DTEND;VALUE=DATE:20190319
DTSTAMP:20260422T121218
CREATED:20220808T160703Z
LAST-MODIFIED:20220808T160734Z
UID:12121-1552867200-1552953599@ataturksociety.org
SUMMARY:18 Mach - Victory and Remembrance Day of Martyrs
DESCRIPTION:18 Mart 1915\, March 18 1915 \nÇanakkale Deniz Zaferi ve Şehitleri Anma Günü \nBu savaşlarda ve bütün savaşlarda yurtları için canlarını veren aziz şehitlerimizin ruhları önünde saygıyla eğiliriz. \nRemembering victorious Atatürk\, Seyit Onbaşı\, Soldiers in 57th regiment (“57. Alay”) and other hereos who fought with great bravery against the occupying forces under the command of the British Navy.
URL:https://ataturksociety.org/event/18-mach-victory-and-remembrance-day-of-martyrs/
CATEGORIES:Celebration,Commemoration
END:VEVENT
END:VCALENDAR