BEGIN:VCALENDAR
VERSION:2.0
PRODID:-//Ataturk Society of America - ECPv6.15.17.1//NONSGML v1.0//EN
CALSCALE:GREGORIAN
METHOD:PUBLISH
X-WR-CALNAME:Ataturk Society of America
X-ORIGINAL-URL:https://ataturksociety.org
X-WR-CALDESC:Events for Ataturk Society of America
REFRESH-INTERVAL;VALUE=DURATION:PT1H
X-Robots-Tag:noindex
X-PUBLISHED-TTL:PT1H
BEGIN:VTIMEZONE
TZID:America/New_York
BEGIN:DAYLIGHT
TZOFFSETFROM:-0500
TZOFFSETTO:-0400
TZNAME:EDT
DTSTART:20170312T070000
END:DAYLIGHT
BEGIN:STANDARD
TZOFFSETFROM:-0400
TZOFFSETTO:-0500
TZNAME:EST
DTSTART:20171105T060000
END:STANDARD
BEGIN:DAYLIGHT
TZOFFSETFROM:-0500
TZOFFSETTO:-0400
TZNAME:EDT
DTSTART:20180311T070000
END:DAYLIGHT
BEGIN:STANDARD
TZOFFSETFROM:-0400
TZOFFSETTO:-0500
TZNAME:EST
DTSTART:20181104T060000
END:STANDARD
BEGIN:DAYLIGHT
TZOFFSETFROM:-0500
TZOFFSETTO:-0400
TZNAME:EDT
DTSTART:20190310T070000
END:DAYLIGHT
BEGIN:STANDARD
TZOFFSETFROM:-0400
TZOFFSETTO:-0500
TZNAME:EST
DTSTART:20191103T060000
END:STANDARD
BEGIN:DAYLIGHT
TZOFFSETFROM:-0500
TZOFFSETTO:-0400
TZNAME:EDT
DTSTART:20200308T070000
END:DAYLIGHT
BEGIN:STANDARD
TZOFFSETFROM:-0400
TZOFFSETTO:-0500
TZNAME:EST
DTSTART:20201101T060000
END:STANDARD
BEGIN:DAYLIGHT
TZOFFSETFROM:-0500
TZOFFSETTO:-0400
TZNAME:EDT
DTSTART:20210314T070000
END:DAYLIGHT
BEGIN:STANDARD
TZOFFSETFROM:-0400
TZOFFSETTO:-0500
TZNAME:EST
DTSTART:20211107T060000
END:STANDARD
BEGIN:DAYLIGHT
TZOFFSETFROM:-0500
TZOFFSETTO:-0400
TZNAME:EDT
DTSTART:20220313T070000
END:DAYLIGHT
BEGIN:STANDARD
TZOFFSETFROM:-0400
TZOFFSETTO:-0500
TZNAME:EST
DTSTART:20221106T060000
END:STANDARD
BEGIN:DAYLIGHT
TZOFFSETFROM:-0500
TZOFFSETTO:-0400
TZNAME:EDT
DTSTART:20230312T070000
END:DAYLIGHT
BEGIN:STANDARD
TZOFFSETFROM:-0400
TZOFFSETTO:-0500
TZNAME:EST
DTSTART:20231105T060000
END:STANDARD
BEGIN:DAYLIGHT
TZOFFSETFROM:-0500
TZOFFSETTO:-0400
TZNAME:EDT
DTSTART:20240310T070000
END:DAYLIGHT
BEGIN:STANDARD
TZOFFSETFROM:-0400
TZOFFSETTO:-0500
TZNAME:EST
DTSTART:20241103T060000
END:STANDARD
BEGIN:DAYLIGHT
TZOFFSETFROM:-0500
TZOFFSETTO:-0400
TZNAME:EDT
DTSTART:20250309T070000
END:DAYLIGHT
BEGIN:STANDARD
TZOFFSETFROM:-0400
TZOFFSETTO:-0500
TZNAME:EST
DTSTART:20251102T060000
END:STANDARD
END:VTIMEZONE
BEGIN:VEVENT
DTSTART;TZID=America/New_York:20240507T110000
DTEND;TZID=America/New_York:20240507T133000
DTSTAMP:20260422T121013
CREATED:20240507T004709Z
LAST-MODIFIED:20240507T010126Z
UID:12614-1715079600-1715088600@ataturksociety.org
SUMMARY:International Panel (Virtual): How Can We Prevent Harmful Consequences from ICTs\, and Move Towards a Sustainable Future?
DESCRIPTION:Kind Reminder ~ You are cordially invited to the below International Panel (Virtual) on : \nHOW CAN WE PREVENT HARMFUL CONSEQUENCES\nFROM INFORMATION COMMUNICATION TECHNOLOGIES (ICTs)\, AND\nMOVE TOWARDS A SUSTAINABLE FUTURE? \nWhen: On May 7\, 2024 \nTime Zones: 11:00 a.m. to 1:30 p.m. EST | 8:00 a.m. PT | 18:00 TR | 18:00 NBO | 20:30 India \nLMGlobal.Org supports the 2024 UN Civil Society Conference\, and the #WTISD (May 17). \n• Link to REGISTER in advance for this meeting:\nhttps://us02web.zoom.us/meeting/register/tZUrc-ygpjwpHd26AYa8-vLZNQk7BOp3UGWk \n– After registering\, you will receive a confirmation email containing information about joining the meeting.
URL:https://ataturksociety.org/event/international-panel-virtual-how-can-we-prevent-harmful-consequences-from-icts-and-move-towards-a-sustainable-future/
LOCATION:Virtual
CATEGORIES:Panel Discussion
ATTACH;FMTTYPE=image/png:https://ataturksociety.org/wp-content/uploads/2024/05/0239bbd5.png
ORGANIZER;CN="Atat%C3%BCrk Society of America":MAILTO:info@ataturksociety.org
END:VEVENT
BEGIN:VEVENT
DTSTART;TZID=America/New_York:20181006T140000
DTEND;TZID=America/New_York:20181006T170000
DTSTAMP:20260422T121013
CREATED:20220808T155315Z
LAST-MODIFIED:20220808T155315Z
UID:12096-1538834400-1538845200@ataturksociety.org
SUMMARY:Korean War Then and Now
DESCRIPTION:Members of the Atatürk Society of America attended a presentation by the REN Foundation on on the Korean War and current state of affairs in the Far East.  Professor Shen Zhihua\, China’s foremost Cold War historian was the quest speaker. His original research of Soviet and Chinese archives provides a unique perspective on the Korean War- the complicated web of relations between Russia\, China and North Korea\, past and present with mounting tensions in the US-China-Korea relations. \nDr. Shen is Director of the Cold War Institute at East China Normal University in Shanghai and an author of numerous books\, highly regarded in China and the West. New York Times recently profiled him as one “Shining a Cleansing Light on China’s Dark Secrets”.
URL:https://ataturksociety.org/event/korean-war-then-and-now/
CATEGORIES:Lectures,Panel Discussion
ATTACH;FMTTYPE=image/jpeg:https://ataturksociety.org/wp-content/uploads/2022/08/REN-1-e1556236602335-scaled.jpg
END:VEVENT
END:VCALENDAR